BEGIN:VCALENDAR
VERSION:2.0
PRODID:-//wp-events-plugin.com//7.2.2.1//EN
TZID:Europe/Berlin
X-WR-TIMEZONE:Europe/Berlin
BEGIN:VEVENT
UID:60@hellweg-realschule.de
DTSTART;TZID=Europe/Berlin:20200217T080000
DTEND;TZID=Europe/Berlin:20200220T180000
DTSTAMP:20200218T114048Z
URL:https://hellweg-realschule.de/veranstaltung/anmeldung-fuer-den-neuen-j
 ahrgang-5/
SUMMARY:Anmeldung für den neuen Jahrgang 5\, Mittwoch u. Donnerstag bis 18
 .00 Uhr
DESCRIPTION:
CATEGORIES:Eltern,vor Anmeldung
LOCATION:[hrs]\, Königsborner Str.12\, Unna\, NRW\, 59427\, Deutschland
X-APPLE-STRUCTURED-LOCATION;VALUE=URI;X-ADDRESS=Königsborner Str.12\, Unna
 \, NRW\, 59427\, Deutschland;X-APPLE-RADIUS=100;X-TITLE=[hrs]:geo:0,0
END:VEVENT
BEGIN:VTIMEZONE
TZID:Europe/Berlin
X-LIC-LOCATION:Europe/Berlin
BEGIN:STANDARD
DTSTART:20191027T020000
TZOFFSETFROM:+0200
TZOFFSETTO:+0100
TZNAME:CET
END:STANDARD
END:VTIMEZONE
END:VCALENDAR