BEGIN:VCALENDAR
VERSION:2.0
PRODID:-//wp-events-plugin.com//7.2.2.1//EN
TZID:Europe/Berlin
X-WR-TIMEZONE:Europe/Berlin
BEGIN:VEVENT
UID:346@hellweg-realschule.de
DTSTART;TZID=Europe/Berlin;VALUE=DATE:20231218
DTEND;TZID=Europe/Berlin;VALUE=DATE:20231219
DTSTAMP:20230627T174001Z
URL:https://hellweg-realschule.de/veranstaltung/ausflug-zur-dasa/
SUMMARY:Ausflug zur DASA
DESCRIPTION:
CATEGORIES:8. Klasse,Berufswahlorientierung
LOCATION:Dasa\, Friedrich-Henkel-Weg 1-25\, Dortmund\, 44149 \, Deutschland
X-APPLE-STRUCTURED-LOCATION;VALUE=URI;X-ADDRESS=Friedrich-Henkel-Weg 1-25\,
  Dortmund\, 44149 \, Deutschland;X-APPLE-RADIUS=100;X-TITLE=Dasa:geo:0,0
END:VEVENT
BEGIN:VTIMEZONE
TZID:Europe/Berlin
X-LIC-LOCATION:Europe/Berlin
BEGIN:STANDARD
DTSTART:20231029T020000
TZOFFSETFROM:+0200
TZOFFSETTO:+0100
TZNAME:CET
END:STANDARD
END:VTIMEZONE
END:VCALENDAR