BEGIN:VCALENDAR
VERSION:2.0
PRODID:-//wp-events-plugin.com//7.2.2.1//EN
TZID:Europe/Berlin
X-WR-TIMEZONE:Europe/Berlin
BEGIN:VEVENT
UID:116@hellweg-realschule.de
DTSTART;TZID=Europe/Berlin:20201111T000000
DTEND;TZID=Europe/Berlin:20201111T000000
DTSTAMP:20200914T181209Z
URL:https://hellweg-realschule.de/veranstaltung/berufswahl-9a-biz-hamm/
SUMMARY:Berufswahl: 9a BIZ Hamm abgesagt
DESCRIPTION:
CATEGORIES:9. Klasse,Berufswahlorientierung
END:VEVENT
BEGIN:VTIMEZONE
TZID:Europe/Berlin
X-LIC-LOCATION:Europe/Berlin
BEGIN:STANDARD
DTSTART:20201025T020000
TZOFFSETFROM:+0200
TZOFFSETTO:+0100
TZNAME:CET
END:STANDARD
END:VTIMEZONE
END:VCALENDAR