BEGIN:VCALENDAR
VERSION:2.0
PRODID:-//wp-events-plugin.com//7.2.2.1//EN
TZID:Europe/Berlin
X-WR-TIMEZONE:Europe/Berlin
BEGIN:VEVENT
UID:32@hellweg-realschule.de
DTSTART;TZID=Europe/Berlin;VALUE=DATE:20200326
DTEND;TZID=Europe/Berlin;VALUE=DATE:20200327
DTSTAMP:20200309T164702Z
URL:https://hellweg-realschule.de/veranstaltung/girls-day-boys-day/
SUMMARY:Girl's and Boy's Day entfällt
DESCRIPTION:Girls´s and Boy´s Day / 5. - 7. Schuljahr\nMädchen und Jung
 en für neue Berufswege zu interessieren\, das ist das Ziel des jährlich 
 stattfindenden Girls` und Boys` Day. Jedes Jahr am 4. Donnerstag im März 
 wird Mädchen und Jungen die Möglichkeit geboten Berufsfelder kennenzuler
 nen\, die außerhalb einer traditionellen Orientierung liegen. So können 
 sich Mädchen in naturwissenschaftlich-technischen Berufen umsehen und Jun
 gen können einen Einblick in soziale\, erzieherische oder pflegerische Be
 reiche erhalten.
CATEGORIES:5. Klasse,6. Klasse,7. Klasse,Berufswahlorientierung
LOCATION:[hrs]\, Königsborner Str.12\, Unna\, NRW\, 59427\, Deutschland
X-APPLE-STRUCTURED-LOCATION;VALUE=URI;X-ADDRESS=Königsborner Str.12\, Unna
 \, NRW\, 59427\, Deutschland;X-APPLE-RADIUS=100;X-TITLE=[hrs]:geo:0,0
END:VEVENT
BEGIN:VTIMEZONE
TZID:Europe/Berlin
X-LIC-LOCATION:Europe/Berlin
BEGIN:STANDARD
DTSTART:20191027T020000
TZOFFSETFROM:+0200
TZOFFSETTO:+0100
TZNAME:CET
END:STANDARD
END:VTIMEZONE
END:VCALENDAR