BEGIN:VCALENDAR
VERSION:2.0
PRODID:-//wp-events-plugin.com//7.2.2.1//EN
TZID:Europe/Berlin
X-WR-TIMEZONE:Europe/Berlin
BEGIN:VEVENT
UID:171@hellweg-realschule.de
DTSTART;TZID=Europe/Berlin:20210624T180000
DTEND;TZID=Europe/Berlin:20210624T190000
DTSTAMP:20200630T082633Z
URL:https://hellweg-realschule.de/veranstaltung/gottesdienst-jg-10-18-00-u
 hr/
SUMMARY:Gottesdienst Jg. 10\, 18.00 Uhr
DESCRIPTION:
CATEGORIES:10. Klasse,Eltern
END:VEVENT
BEGIN:VTIMEZONE
TZID:Europe/Berlin
X-LIC-LOCATION:Europe/Berlin
BEGIN:DAYLIGHT
DTSTART:20210328T030000
TZOFFSETFROM:+0100
TZOFFSETTO:+0200
TZNAME:CEST
END:DAYLIGHT
END:VTIMEZONE
END:VCALENDAR