BEGIN:VCALENDAR
VERSION:2.0
PRODID:-//wp-events-plugin.com//7.2.2.1//EN
TZID:Europe/Berlin
X-WR-TIMEZONE:Europe/Berlin
BEGIN:VEVENT
UID:1@hellweg-realschule.de
DTSTART;TZID=Europe/Berlin;VALUE=DATE:20191014
DTEND;TZID=Europe/Berlin;VALUE=DATE:20191026
DTSTAMP:20191115T093326Z
URL:https://hellweg-realschule.de/veranstaltung/herbstferien/
SUMMARY:Herbstferien
DESCRIPTION:Wir wünschen unseren Schülerinnen und Schülern gute Erholung
  und eine tolle Zeit.
END:VEVENT
BEGIN:VTIMEZONE
TZID:Europe/Berlin
X-LIC-LOCATION:Europe/Berlin
BEGIN:DAYLIGHT
DTSTART:20190331T030000
TZOFFSETFROM:+0100
TZOFFSETTO:+0200
TZNAME:CEST
END:DAYLIGHT
END:VTIMEZONE
END:VCALENDAR