BEGIN:VCALENDAR
VERSION:2.0
PRODID:-//wp-events-plugin.com//7.2.2.1//EN
TZID:Europe/Berlin
X-WR-TIMEZONE:Europe/Berlin
BEGIN:VEVENT
UID:156@hellweg-realschule.de
DTSTART;TZID=Europe/Berlin;VALUE=DATE:20210506
DTEND;TZID=Europe/Berlin;VALUE=DATE:20210508
DTSTAMP:20200630T070824Z
URL:https://hellweg-realschule.de/veranstaltung/individuelle-berufsberatun
 g-9a/
SUMMARY:individuelle Berufsberatung 9a
DESCRIPTION:
CATEGORIES:9. Klasse,Berufswahlorientierung,Eltern
END:VEVENT
BEGIN:VTIMEZONE
TZID:Europe/Berlin
X-LIC-LOCATION:Europe/Berlin
BEGIN:DAYLIGHT
DTSTART:20210328T030000
TZOFFSETFROM:+0100
TZOFFSETTO:+0200
TZNAME:CEST
END:DAYLIGHT
END:VTIMEZONE
END:VCALENDAR