BEGIN:VCALENDAR
VERSION:2.0
PRODID:-//wp-events-plugin.com//7.2.2.1//EN
TZID:Europe/Berlin
X-WR-TIMEZONE:Europe/Berlin
BEGIN:VEVENT
UID:187@hellweg-realschule.de
DTSTART;TZID=Europe/Berlin:20201209T190000
DTEND;TZID=Europe/Berlin:20201209T203000
DTSTAMP:20201208T162550Z
URL:https://hellweg-realschule.de/veranstaltung/info-abend-fuer-die-eltern
 -der-grundschulen-19-00-uhr-2/
SUMMARY:Info-Abend für die Eltern der Grundschulen verschoben auf ???
DESCRIPTION:Anmeldung nicht erforderlich
CATEGORIES:Eltern,vor Anmeldung
END:VEVENT
BEGIN:VTIMEZONE
TZID:Europe/Berlin
X-LIC-LOCATION:Europe/Berlin
BEGIN:STANDARD
DTSTART:20201025T020000
TZOFFSETFROM:+0200
TZOFFSETTO:+0100
TZNAME:CET
END:STANDARD
END:VTIMEZONE
END:VCALENDAR