BEGIN:VCALENDAR
VERSION:2.0
PRODID:-//wp-events-plugin.com//7.2.2.1//EN
TZID:Europe/Berlin
X-WR-TIMEZONE:Europe/Berlin
BEGIN:VEVENT
UID:197@hellweg-realschule.de
DTSTART;TZID=Europe/Berlin:20210107T190000
DTEND;TZID=Europe/Berlin:20210107T203000
DTSTAMP:20201125T170828Z
URL:https://hellweg-realschule.de/veranstaltung/infoabend-fuer-die-grundsc
 hulen-uer-die-eltern-der-aloysiusschule-der-dudenrothschule-der-nordschule
 -der-paul-gerhardt-schule-und-fuer-die-eltern-sonstiger-schulen/
SUMMARY:Infoabend für die Grundschulen: für die Eltern der Aloysiusschule
 \, der Dudenrothschule\, der Nordschule\, der Paul-Gerhardt-Schule und fü
 r die Eltern sonstiger Schulen
DESCRIPTION:
END:VEVENT
BEGIN:VTIMEZONE
TZID:Europe/Berlin
X-LIC-LOCATION:Europe/Berlin
BEGIN:STANDARD
DTSTART:20201025T020000
TZOFFSETFROM:+0200
TZOFFSETTO:+0100
TZNAME:CET
END:STANDARD
END:VTIMEZONE
END:VCALENDAR