BEGIN:VCALENDAR
VERSION:2.0
PRODID:-//wp-events-plugin.com//7.2.2.1//EN
TZID:Europe/Berlin
X-WR-TIMEZONE:Europe/Berlin
BEGIN:VEVENT
UID:169@hellweg-realschule.de
DTSTART;TZID=Europe/Berlin:20210618T153000
DTEND;TZID=Europe/Berlin:20210618T180000
DTSTAMP:20200630T082341Z
URL:https://hellweg-realschule.de/veranstaltung/kennenlernfest-der-neuen-5
 er-2/
SUMMARY:Kennenlernfest der neuen 5er
DESCRIPTION:
CATEGORIES:vor Anmeldung
END:VEVENT
BEGIN:VTIMEZONE
TZID:Europe/Berlin
X-LIC-LOCATION:Europe/Berlin
BEGIN:DAYLIGHT
DTSTART:20210328T030000
TZOFFSETFROM:+0100
TZOFFSETTO:+0200
TZNAME:CEST
END:DAYLIGHT
END:VTIMEZONE
END:VCALENDAR