BEGIN:VCALENDAR
VERSION:2.0
PRODID:-//wp-events-plugin.com//7.2.2.1//EN
TZID:Europe/Berlin
X-WR-TIMEZONE:Europe/Berlin
BEGIN:VEVENT
UID:100@hellweg-realschule.de
DTSTART;TZID=Europe/Berlin;VALUE=DATE:20200824
DTEND;TZID=Europe/Berlin;VALUE=DATE:20200829
DTSTAMP:20200716T130019Z
URL:https://hellweg-realschule.de/veranstaltung/klassenfahrt-10a-oberammer
 gau-klassenfahrt-10b-hamburg-klassenfahrt-10c-berlin/
SUMMARY:Klassenfahrt 10a Oberammergau\, Klassenfahrt 10c Berlin
DESCRIPTION:
CATEGORIES:10. Klasse
END:VEVENT
BEGIN:VTIMEZONE
TZID:Europe/Berlin
X-LIC-LOCATION:Europe/Berlin
BEGIN:DAYLIGHT
DTSTART:20200329T030000
TZOFFSETFROM:+0100
TZOFFSETTO:+0200
TZNAME:CEST
END:DAYLIGHT
END:VTIMEZONE
END:VCALENDAR