BEGIN:VCALENDAR
VERSION:2.0
PRODID:-//wp-events-plugin.com//7.2.2.1//EN
TZID:Europe/Berlin
X-WR-TIMEZONE:Europe/Berlin
BEGIN:VEVENT
UID:368@hellweg-realschule.de
DTSTART;TZID=Europe/Berlin;VALUE=DATE:20230904
DTEND;TZID=Europe/Berlin;VALUE=DATE:20230909
DTSTAMP:20230702T144437Z
URL:https://hellweg-realschule.de/veranstaltung/klassenfahrt-10b-10c/
SUMMARY:Klassenfahrt 10b\, 10c
DESCRIPTION:
CATEGORIES:10. Klasse,Eltern,Klassenfahrten
END:VEVENT
BEGIN:VTIMEZONE
TZID:Europe/Berlin
X-LIC-LOCATION:Europe/Berlin
BEGIN:DAYLIGHT
DTSTART:20230326T030000
TZOFFSETFROM:+0100
TZOFFSETTO:+0200
TZNAME:CEST
END:DAYLIGHT
END:VTIMEZONE
END:VCALENDAR