BEGIN:VCALENDAR
VERSION:2.0
PRODID:-//wp-events-plugin.com//7.2.2.1//EN
TZID:Europe/Berlin
X-WR-TIMEZONE:Europe/Berlin
BEGIN:VEVENT
UID:354@hellweg-realschule.de
DTSTART;TZID=Europe/Berlin;VALUE=DATE:20231114
DTEND;TZID=Europe/Berlin;VALUE=DATE:20231116
DTSTAMP:20230627T175224Z
URL:https://hellweg-realschule.de/veranstaltung/metalltruck-2/
SUMMARY:Metalltruck
DESCRIPTION:
CATEGORIES:9. Klasse,Berufswahlorientierung
LOCATION:Hellweg-Realschule\, Königsborner Str.12\, Unna\, NRW\, 59427\, D
 eutschland
X-APPLE-STRUCTURED-LOCATION;VALUE=URI;X-ADDRESS=Königsborner Str.12\, Unna
 \, NRW\, 59427\, Deutschland;X-APPLE-RADIUS=100;X-TITLE=Hellweg-Realschule
 :geo:0,0
END:VEVENT
BEGIN:VTIMEZONE
TZID:Europe/Berlin
X-LIC-LOCATION:Europe/Berlin
BEGIN:STANDARD
DTSTART:20231029T020000
TZOFFSETFROM:+0200
TZOFFSETTO:+0100
TZNAME:CET
END:STANDARD
END:VTIMEZONE
END:VCALENDAR