BEGIN:VCALENDAR
VERSION:2.0
PRODID:-//wp-events-plugin.com//7.2.2.1//EN
TZID:Europe/Berlin
X-WR-TIMEZONE:Europe/Berlin
BEGIN:VEVENT
UID:10@hellweg-realschule.de
DTSTART;TZID=Europe/Berlin:20191125T083000
DTEND;TZID=Europe/Berlin:20191125T150000
DTSTAMP:20191123T171059Z
URL:https://hellweg-realschule.de/veranstaltung/potentialanalyse-8a/
SUMMARY:Potentialanalyse 8a
DESCRIPTION:
CATEGORIES:8. Klasse
LOCATION:Werkstatt Unna\, Viktoriastra. 17\, Unna\, NRW\, 59425 \, Unna\, D
 eutschland
X-APPLE-STRUCTURED-LOCATION;VALUE=URI;X-ADDRESS=Viktoriastra. 17\, Unna\, N
 RW\, 59425 \, Unna\, Deutschland;X-APPLE-RADIUS=100;X-TITLE=Werkstatt Unna
 :geo:0,0
END:VEVENT
BEGIN:VTIMEZONE
TZID:Europe/Berlin
X-LIC-LOCATION:Europe/Berlin
BEGIN:STANDARD
DTSTART:20191027T020000
TZOFFSETFROM:+0200
TZOFFSETTO:+0100
TZNAME:CET
END:STANDARD
END:VTIMEZONE
END:VCALENDAR