BEGIN:VCALENDAR
VERSION:2.0
PRODID:-//wp-events-plugin.com//7.2.2.1//EN
TZID:Europe/Berlin
X-WR-TIMEZONE:Europe/Berlin
BEGIN:VEVENT
UID:269@hellweg-realschule.de
DTSTART;TZID=Europe/Berlin;VALUE=DATE:20230123
DTEND;TZID=Europe/Berlin;VALUE=DATE:20230204
DTSTAMP:20220619T143624Z
URL:https://hellweg-realschule.de/veranstaltung/praktikum-1/
SUMMARY:Praktikum 1
DESCRIPTION:
CATEGORIES:9. Klasse,Berufswahlorientierung
END:VEVENT
BEGIN:VTIMEZONE
TZID:Europe/Berlin
X-LIC-LOCATION:Europe/Berlin
BEGIN:STANDARD
DTSTART:20221030T020000
TZOFFSETFROM:+0200
TZOFFSETTO:+0100
TZNAME:CET
END:STANDARD
END:VTIMEZONE
END:VCALENDAR