BEGIN:VCALENDAR
VERSION:2.0
PRODID:-//wp-events-plugin.com//7.2.2.1//EN
TZID:Europe/Berlin
X-WR-TIMEZONE:Europe/Berlin
BEGIN:VEVENT
UID:114@hellweg-realschule.de
DTSTART;TZID=Europe/Berlin;VALUE=DATE:20201027
DTEND;TZID=Europe/Berlin;VALUE=DATE:20201028
DTSTAMP:20200629T080915Z
URL:https://hellweg-realschule.de/veranstaltung/schilf-schulinterne-lehrer
 fortbildung-1-unterrichtsfrei-studientag/
SUMMARY:SchiLF schulinterne Lehrerfortbildung 1\, unterrichtsfrei: Studient
 ag
DESCRIPTION:
CATEGORIES:10. Klasse,5. Klasse,6. Klasse,7. Klasse,8. Klasse,9.
 Klasse,Eltern
END:VEVENT
BEGIN:VTIMEZONE
TZID:Europe/Berlin
X-LIC-LOCATION:Europe/Berlin
BEGIN:STANDARD
DTSTART:20201025T020000
TZOFFSETFROM:+0200
TZOFFSETTO:+0100
TZNAME:CET
END:STANDARD
END:VTIMEZONE
END:VCALENDAR