BEGIN:VCALENDAR
VERSION:2.0
PRODID:-//wp-events-plugin.com//7.2.2.1//EN
TZID:Europe/Berlin
X-WR-TIMEZONE:Europe/Berlin
BEGIN:VEVENT
UID:321@hellweg-realschule.de
DTSTART;TZID=Europe/Berlin:20230531T000000
DTEND;TZID=Europe/Berlin:20230531T000000
DTSTAMP:20220811T203807Z
URL:https://hellweg-realschule.de/veranstaltung/schilf-studientag-unterric
 htsfrei/
SUMMARY:SchiLf: Studientag\, unterrichtsfrei
DESCRIPTION:
CATEGORIES:10. Klasse,5. Klasse,6. Klasse,7. Klasse,8. Klasse,9.
 Klasse,Eltern
END:VEVENT
BEGIN:VTIMEZONE
TZID:Europe/Berlin
X-LIC-LOCATION:Europe/Berlin
BEGIN:DAYLIGHT
DTSTART:20230326T030000
TZOFFSETFROM:+0100
TZOFFSETTO:+0200
TZNAME:CEST
END:DAYLIGHT
END:VTIMEZONE
END:VCALENDAR