BEGIN:VCALENDAR
VERSION:2.0
PRODID:-//wp-events-plugin.com//7.2.2.1//EN
TZID:Europe/Berlin
X-WR-TIMEZONE:Europe/Berlin
BEGIN:VEVENT
UID:134@hellweg-realschule.de
DTSTART;TZID=Europe/Berlin:20210120T000000
DTEND;TZID=Europe/Berlin:20210120T000000
DTSTAMP:20210108T201109Z
URL:https://hellweg-realschule.de/veranstaltung/schnuppertag-an-den-berufs
 kollegs-jahrgang-10/
SUMMARY:Schnuppertag an den Berufskollegs (Jahrgang 10) fällt aus
DESCRIPTION:
CATEGORIES:10. Klasse,Berufswahlorientierung
END:VEVENT
BEGIN:VTIMEZONE
TZID:Europe/Berlin
X-LIC-LOCATION:Europe/Berlin
BEGIN:STANDARD
DTSTART:20201025T020000
TZOFFSETFROM:+0200
TZOFFSETTO:+0100
TZNAME:CET
END:STANDARD
END:VTIMEZONE
END:VCALENDAR