BEGIN:VCALENDAR
VERSION:2.0
PRODID:-//wp-events-plugin.com//7.2.2.1//EN
TZID:Europe/Berlin
X-WR-TIMEZONE:Europe/Berlin
BEGIN:VEVENT
UID:301@hellweg-realschule.de
DTSTART;TZID=Europe/Berlin:20230118T000000
DTEND;TZID=Europe/Berlin:20230118T000000
DTSTAMP:20220811T110037Z
URL:https://hellweg-realschule.de/veranstaltung/schnuppertag-bks-jahrgang-
 10/
SUMMARY:Schnuppertag BKs\, Jahrgang 10
DESCRIPTION:
CATEGORIES:10. Klasse
END:VEVENT
BEGIN:VTIMEZONE
TZID:Europe/Berlin
X-LIC-LOCATION:Europe/Berlin
BEGIN:STANDARD
DTSTART:20221030T020000
TZOFFSETFROM:+0200
TZOFFSETTO:+0100
TZNAME:CET
END:STANDARD
END:VTIMEZONE
END:VCALENDAR