BEGIN:VCALENDAR
VERSION:2.0
PRODID:-//wp-events-plugin.com//7.2.2.1//EN
TZID:Europe/Berlin
X-WR-TIMEZONE:Europe/Berlin
BEGIN:VEVENT
UID:68@hellweg-realschule.de
DTSTART;TZID=Europe/Berlin:20200113T080000
DTEND;TZID=Europe/Berlin:20200114T130000
DTSTAMP:20191123T172243Z
URL:https://hellweg-realschule.de/veranstaltung/schnuppertag-ernst-barlach
 -gymnasium-unna/
SUMMARY:Schnuppertag Ernst-Barlach-Gymnasium Unna
DESCRIPTION:Die Hellweg-Realschule Unna und die weiterführenden Schulen in
  Unna wollen den Schülerinnen und Schülern individuelle Informations- un
 d Beratungsangebote machen\, die unterschiedlichen Anforderungen der diffe
 renzierten Bildungswege an Berufskollegs\, Gesamtschulen und Gymnasien ver
 mitteln und die entsprechenden Perspektiven aufzeigen und eine Brücke zur
  beruflichen Praxis anbieten. Der Jahrgangsstufe 10 der Hellweg-Realschule
  bietet sie daher einen „Schnuppertag“ jeweils im Januar eines Schulja
 hres an (mit Besuch der Schule\, einer Info-Stunde\, kleinen Unterrichtsse
 quenzen etc.).
CATEGORIES:10. Klasse,Berufswahlorientierung
LOCATION:Ernst-Barlach-Gymnasium\, Seminarstr. 4\, Unna\, NRW\, 59423\, Deu
 tschland
X-APPLE-STRUCTURED-LOCATION;VALUE=URI;X-ADDRESS=Seminarstr. 4\, Unna\, NRW\
 , 59423\, Deutschland;X-APPLE-RADIUS=100;X-TITLE=Ernst-Barlach-Gymnasium:g
 eo:0,0
END:VEVENT
BEGIN:VTIMEZONE
TZID:Europe/Berlin
X-LIC-LOCATION:Europe/Berlin
BEGIN:STANDARD
DTSTART:20191027T020000
TZOFFSETFROM:+0200
TZOFFSETTO:+0100
TZNAME:CET
END:STANDARD
END:VTIMEZONE
END:VCALENDAR