BEGIN:VCALENDAR
VERSION:2.0
PRODID:-//wp-events-plugin.com//7.2.2.1//EN
TZID:Europe/Berlin
X-WR-TIMEZONE:Europe/Berlin
BEGIN:VEVENT
UID:147@hellweg-realschule.de
DTSTART;TZID=Europe/Berlin:20210222T190000
DTEND;TZID=Europe/Berlin:20210222T203000
DTSTAMP:20200629T095653Z
URL:https://hellweg-realschule.de/veranstaltung/schulpflegschaftssitzung-1
 9-00-uhr-2/
SUMMARY:Schulpflegschaftssitzung 19.00 Uhr
DESCRIPTION:
CATEGORIES:10. Klasse,5. Klasse,6. Klasse,7. Klasse,8. Klasse,9.
 Klasse,Eltern
END:VEVENT
BEGIN:VTIMEZONE
TZID:Europe/Berlin
X-LIC-LOCATION:Europe/Berlin
BEGIN:STANDARD
DTSTART:20201025T020000
TZOFFSETFROM:+0200
TZOFFSETTO:+0100
TZNAME:CET
END:STANDARD
END:VTIMEZONE
END:VCALENDAR