BEGIN:VCALENDAR
VERSION:2.0
PRODID:-//wp-events-plugin.com//7.2.2.1//EN
TZID:Europe/Berlin
X-WR-TIMEZONE:Europe/Berlin
BEGIN:VEVENT
UID:110@hellweg-realschule.de
DTSTART;TZID=Europe/Berlin:20201007T000000
DTEND;TZID=Europe/Berlin:20201007T000000
DTSTAMP:20200629T075528Z
URL:https://hellweg-realschule.de/veranstaltung/tag-der-ausbildung-jahrgan
 g-9/
SUMMARY:Tag der Ausbildung Jahrgang 9
DESCRIPTION:
CATEGORIES:9. Klasse,Berufswahlorientierung
END:VEVENT
BEGIN:VTIMEZONE
TZID:Europe/Berlin
X-LIC-LOCATION:Europe/Berlin
BEGIN:DAYLIGHT
DTSTART:20200329T030000
TZOFFSETFROM:+0100
TZOFFSETTO:+0200
TZNAME:CEST
END:DAYLIGHT
END:VTIMEZONE
END:VCALENDAR