BEGIN:VCALENDAR
VERSION:2.0
PRODID:-//wp-events-plugin.com//7.2.2.1//EN
TZID:Europe/Berlin
X-WR-TIMEZONE:Europe/Berlin
BEGIN:VEVENT
UID:360@hellweg-realschule.de
DTSTART;TZID=Europe/Berlin;VALUE=DATE:20230915
DTEND;TZID=Europe/Berlin;VALUE=DATE:20230916
DTSTAMP:20230627T182023Z
URL:https://hellweg-realschule.de/veranstaltung/tag-der-wirtschaft-des-han
 sa/
SUMMARY:Tag der Wirtschaft des Hansa
DESCRIPTION:
CATEGORIES:10. Klasse,Berufswahlorientierung
LOCATION:Hellweg-Realschule\, Königsborner Str.12\, Unna\, NRW\, 59427\, D
 eutschland
X-APPLE-STRUCTURED-LOCATION;VALUE=URI;X-ADDRESS=Königsborner Str.12\, Unna
 \, NRW\, 59427\, Deutschland;X-APPLE-RADIUS=100;X-TITLE=Hellweg-Realschule
 :geo:0,0
END:VEVENT
BEGIN:VTIMEZONE
TZID:Europe/Berlin
X-LIC-LOCATION:Europe/Berlin
BEGIN:DAYLIGHT
DTSTART:20230326T030000
TZOFFSETFROM:+0100
TZOFFSETTO:+0200
TZNAME:CEST
END:DAYLIGHT
END:VTIMEZONE
END:VCALENDAR